BEGIN:VCALENDAR
VERSION:2.0
PRODID:-//VDDAW - ECPv6.15.20//NONSGML v1.0//EN
CALSCALE:GREGORIAN
METHOD:PUBLISH
X-ORIGINAL-URL:https://vddaw.de
X-WR-CALDESC:Veranstaltungen für VDDAW
REFRESH-INTERVAL;VALUE=DURATION:PT1H
X-Robots-Tag:noindex
X-PUBLISHED-TTL:PT1H
BEGIN:VTIMEZONE
TZID:UTC
BEGIN:STANDARD
TZOFFSETFROM:+0000
TZOFFSETTO:+0000
TZNAME:UTC
DTSTART:20250101T000000
END:STANDARD
END:VTIMEZONE
BEGIN:VEVENT
DTSTART;VALUE=DATE:20260131
DTEND;VALUE=DATE:20260201
DTSTAMP:20260420T162246
CREATED:20251101T093252Z
LAST-MODIFIED:20251101T093252Z
UID:3179-1769817600-1769903999@vddaw.de
SUMMARY:Estonian Open Indoor Double-Bit Axe Throwing Championships
DESCRIPTION:
URL:https://vddaw.de/event/estonian-open-indoor-double-bit-axe-throwing-championships/
LOCATION:Arena\, Mäetaguse\,\, Estonia
ATTACH;FMTTYPE=image/jpeg:https://vddaw.de/wp-content/uploads/2025/11/banner-estonia-januar.jpg
END:VEVENT
END:VCALENDAR