BEGIN:VCALENDAR
VERSION:2.0
PRODID:-//VDDAW - ECPv6.15.20//NONSGML v1.0//EN
CALSCALE:GREGORIAN
METHOD:PUBLISH
X-ORIGINAL-URL:https://vddaw.de
X-WR-CALDESC:Veranstaltungen für VDDAW
REFRESH-INTERVAL;VALUE=DURATION:PT1H
X-Robots-Tag:noindex
X-PUBLISHED-TTL:PT1H
BEGIN:VTIMEZONE
TZID:UTC
BEGIN:STANDARD
TZOFFSETFROM:+0000
TZOFFSETTO:+0000
TZNAME:UTC
DTSTART:20250101T000000
END:STANDARD
END:VTIMEZONE
BEGIN:VEVENT
DTSTART;VALUE=DATE:20260626
DTEND;VALUE=DATE:20260629
DTSTAMP:20260420T162415
CREATED:20250927T084213Z
LAST-MODIFIED:20260207T094156Z
UID:3148-1782432000-1782691199@vddaw.de
SUMMARY:UK Double Bit Championships 2026
DESCRIPTION:Hier könnt ihr euch anmelden. \nFür UK benötigt ihr ein Visum. Es kann hier online beantragt werden.
URL:https://vddaw.de/event/uk-double-bit-championships-2026/
LOCATION:Baldersby\, N- Yorks
ATTACH;FMTTYPE=image/jpeg:https://vddaw.de/wp-content/uploads/2025/09/banner-uk-champs-2026.jpg
END:VEVENT
END:VCALENDAR