BEGIN:VCALENDAR
VERSION:2.0
PRODID:-//VDDAW - ECPv6.15.20//NONSGML v1.0//EN
CALSCALE:GREGORIAN
METHOD:PUBLISH
X-ORIGINAL-URL:https://vddaw.de
X-WR-CALDESC:Veranstaltungen für VDDAW
REFRESH-INTERVAL;VALUE=DURATION:PT1H
X-Robots-Tag:noindex
X-PUBLISHED-TTL:PT1H
BEGIN:VTIMEZONE
TZID:UTC
BEGIN:STANDARD
TZOFFSETFROM:+0000
TZOFFSETTO:+0000
TZNAME:UTC
DTSTART:20250101T000000
END:STANDARD
END:VTIMEZONE
BEGIN:VEVENT
DTSTART;VALUE=DATE:20260711
DTEND;VALUE=DATE:20260712
DTSTAMP:20260420T175144
CREATED:20251101T094003Z
LAST-MODIFIED:20251101T094003Z
UID:3190-1783728000-1783814399@vddaw.de
SUMMARY:Open Estonian Championships 2026
DESCRIPTION:
URL:https://vddaw.de/event/open-estonian-championships-2026/
LOCATION:Muhu Island\, Estonia
ATTACH;FMTTYPE=image/jpeg:https://vddaw.de/wp-content/uploads/2025/11/estonian-team.jpg
END:VEVENT
END:VCALENDAR