BEGIN:VCALENDAR
VERSION:2.0
PRODID:-//VDDAW - ECPv6.15.20//NONSGML v1.0//EN
CALSCALE:GREGORIAN
METHOD:PUBLISH
X-WR-CALNAME:VDDAW
X-ORIGINAL-URL:https://vddaw.de
X-WR-CALDESC:Veranstaltungen für VDDAW
REFRESH-INTERVAL;VALUE=DURATION:PT1H
X-Robots-Tag:noindex
X-PUBLISHED-TTL:PT1H
BEGIN:VTIMEZONE
TZID:UTC
BEGIN:STANDARD
TZOFFSETFROM:+0000
TZOFFSETTO:+0000
TZNAME:UTC
DTSTART:20250101T000000
END:STANDARD
END:VTIMEZONE
BEGIN:VEVENT
DTSTART;VALUE=DATE:20260603
DTEND;VALUE=DATE:20260608
DTSTAMP:20260420T144250
CREATED:20251107T124203Z
LAST-MODIFIED:20251107T124656Z
UID:3198-1780444800-1780876799@vddaw.de
SUMMARY:Asgard Cup 2026
DESCRIPTION:Der Asgard Cup 2026 findet vom Mittwoch den 03. Juni bis zum Sonntag den 07. Juni statt\, \nGeworfen wird von Donnerstag bis Samstag. \n(Mittwoch = Anreisetag\, Donnerstag + Freitag = Turniertag\, Samstag = Finale + gemeinsames Feiern\, Sonntag = Abreisetag) \nVier Tage lang können Werfer und Werferinnen aus der ganzen Welt\, ob mit oder ohne Verein\, an der Veranstaltung teilnehmen.
URL:https://vddaw.de/event/asgard-cup-2026/
LOCATION:Laubach-Münster\, Hessen\, Deutschland
ATTACH;FMTTYPE=image/jpeg:https://vddaw.de/wp-content/uploads/2025/11/banner-asgard-cup.jpg
END:VEVENT
BEGIN:VEVENT
DTSTART;VALUE=DATE:20260618
DTEND;VALUE=DATE:20260621
DTSTAMP:20260420T144250
CREATED:20251101T093751Z
LAST-MODIFIED:20251101T093751Z
UID:3187-1781740800-1781999999@vddaw.de
SUMMARY:Open Slovenian Championships 2026
DESCRIPTION:
URL:https://vddaw.de/event/open-slovenian-championships-2026/
LOCATION:Kočevje\, Kočevje\, 1330\, Slovenia
ATTACH;FMTTYPE=image/jpeg:https://vddaw.de/wp-content/uploads/2025/11/banner-sekirachi.jpg
END:VEVENT
BEGIN:VEVENT
DTSTART;VALUE=DATE:20260626
DTEND;VALUE=DATE:20260629
DTSTAMP:20260420T144250
CREATED:20250927T084213Z
LAST-MODIFIED:20260207T094156Z
UID:3148-1782432000-1782691199@vddaw.de
SUMMARY:UK Double Bit Championships 2026
DESCRIPTION:Hier könnt ihr euch anmelden. \nFür UK benötigt ihr ein Visum. Es kann hier online beantragt werden.
URL:https://vddaw.de/event/uk-double-bit-championships-2026/
LOCATION:Baldersby\, N- Yorks
ATTACH;FMTTYPE=image/jpeg:https://vddaw.de/wp-content/uploads/2025/09/banner-uk-champs-2026.jpg
END:VEVENT
END:VCALENDAR